BEGIN:VCALENDAR
PRODID:-//github.com/ical-org/ical.net//NONSGML ical.net 4.0//EN
VERSION:2.0
BEGIN:VEVENT
DESCRIPTION:Vízbe lépőknek ingyenes uszodai programok\, kísérőknek jegy sz
 ükséges: családi váltó\, kisvizes bemutató és aquafitt vár.
DTEND:20260308T110000Z
DTSTAMP:20260420T101455Z
DTSTART:20260308T080000Z
GEO:47.081003;18.028575
LOCATION:Balaton Uszoda\nBalatonfűzfő\, Fűzfőgyártelep\, Uszoda utca 1
SEQUENCE:0
SUMMARY:Nyitott uszoda program Balatonfűzfőn
UID:125c912f-706a-48eb-a230-0338b2c43e9d
END:VEVENT
END:VCALENDAR
