BEGIN:VCALENDAR
PRODID:-//github.com/ical-org/ical.net//NONSGML ical.net 4.0//EN
VERSION:2.0
BEGIN:VEVENT
DESCRIPTION:Indul a tavaszi futószezon: fesztiválhangulat és több táv Bala
 tonlellén.
DTEND:20260307T143000Z
DTSTAMP:20260420T104419Z
DTSTART:20260307T070000Z
GEO:46.784219;17.696786
LOCATION:Balatonlelle\nBalatonlelle
SEQUENCE:0
SUMMARY:Home Holding – X. Fuss Neki Futófesztivál
UID:08db4801-48a4-4bb8-9cd9-d1da3849f2c2
END:VEVENT
END:VCALENDAR
