BEGIN:VCALENDAR
PRODID:-//github.com/ical-org/ical.net//NONSGML ical.net 4.0//EN
VERSION:2.0
BEGIN:VEVENT
DESCRIPTION:The spring running season is starting: a festival atmosphere a
 nd more distances in Balatonlelle.
DTEND:20260307T143000Z
DTSTAMP:20260420T121031Z
DTSTART:20260307T070000Z
GEO:46.784219;17.696786
LOCATION:Balatonlelle\nBalatonlelle
SEQUENCE:0
SUMMARY:Home Holding – 10th Fuss Neki Running Festival
UID:22b6b033-fa61-450a-a7c7-a187e98cf66d
END:VEVENT
END:VCALENDAR
